BEGIN:VCALENDAR
VERSION:2.0
PRODID:-//Meagan Read Property/EPL//NONSGML v1.0//EN
METHOD:PUBLISH
BEGIN:VEVENT
DTSTART:20210227T131500
DTEND:20210227T134500
LOCATION:66-76 Clifton Drive NORTH MACLEAN, QLD 4280
URL:https://meaganreadproperty.com.au/property/66-76-clifton-drive-north-maclean-qld-4280/
TRANSP:OPAQUE
SEQUENCE:0
UID:573521614223021
DTSTAMP:20210224T171701Z
SUMMARY:Home Open - 10 Acres, Great Home, Big Dam & Shed
DESCRIPTION:You will love all this property offers\; its location is great too!\nThe home is a Colonial style with front and back veranda's and positioned at the back of the home is a very large and insulated covered outdoor entertainment area\, this cool and comfortable spot is superb\, and you will love sitting here and looking out to the private acreage and treed backdrop. \nThe home has just had some recent updates\, new curtains\, new flooring and carpet\, freshly painted\, DUCTED air conditioning throughout\, LED lights\, new front fence\, 2 x new poly tanks\, bitumen driveway and the very large\, insulated entertainment area (previously mentioned). The home has an impressive kitchen with a beautiful and unique gas range and one of the largest built-in fridges I have ever seen\, there are loads of cupboards and expansive stone bench tops for serving out on. \nThe formal lounge and dining room has a fireplace and adjacent to the kitchen is another living room or make it a large dining room. This home is well set up for entertaining friends and family\, but if you like something a little bit different wonder down to the Clifton Pavilion! This covered party deck is perfect - from here you look over the extra-large dam\, this is a fabulous spot for a bit of bird watching and the owner tells me there may be some yabbies and fish in the dam- it would be great to throw in a line and find out! \nAll four bedrooms are a good size and they all come with built in robes\, the main bedroom has an ensuite.\nThere is double garaging at the house and also an 8m x 6m shed for all that gear you just have to have. \nThe acreage is gently sloping from the front to the back\, the seller has had horses on the property however there is no horse infrastructure in place\, which could be perfect as you could set it up how you would like it. \nCome and view as I know you will be impressed like I am - when you see all this property offers. \n\nReason for selling: Sea Change\nBrick and Tile home built: 1985\nCouncil:- Logan City Council \nRates: $525 per quarter \nRainwater tanks only\, septic sewerage system\nClosest town: Jimboomba 10.7klms\, Commute to Brisbane CBD 47.8klms\, Gold Coast 85.4klms
PRIORITY:1
CLASS:PUBLIC
BEGIN:VALARM
TRIGGER:-PT10080M
ACTION:DISPLAY
DESCRIPTION:Reminder
END:VALARM
END:VEVENT
END:VCALENDAR
