BEGIN:VCALENDAR
VERSION:2.0
PRODID:-//Meagan Read Property/EPL//NONSGML v1.0//EN
METHOD:PUBLISH
BEGIN:VEVENT
DTSTART:20210227T090000
DTEND:20210227T093000
LOCATION:4 Spa Court BEAUDESERT, QLD 4285
URL:https://meaganreadproperty.com.au/property/4-spa-court-beaudesert-qld-4285/
TRANSP:OPAQUE
SEQUENCE:0
UID:484081614223236
DTSTAMP:20210224T172036Z
SUMMARY:Home Open - Great Sheds with Lovely Home!
DESCRIPTION:Come and check out this lovely home\, it offers a great lifestyle as it is a good size home\, cul de sac position and manicured gardens\, however the sheds will be an added bonus as there is not one shed but two! \nThe first shed is large and can house 4 cars and if you have a caravan/ boat/jet ski you will love the extra high carport 12m long x 4 m wide\, just back it in and shut the gate\, perfect for safely storing all those expensive toys. \n\n 3 bedrooms- main bedroom with ensuite and walk-in robe\, separate office & main bathroom\nOpen plan lounge room\, kitchen\, and dining room with air conditioning\nThe home is insulated and has exterior storm roller blinds perfect if you love a dark bedroom \nLarge covered & insulated outdoor entertainment area great for privacy and entertaining\n\nThis home is on a lovely\, manicured block 932m2 and is located in a quiet cul de sac street\, only minutes from Beaudesert with schools and shops\, the location is also appealing as it's only a quick walk to the large park in the estate. Come and view\, at this price this home will not last long on the market as an astute buyer will appreciate all this property offers. \n\nReason for selling: Sea Change\nHome built by A. V Jennings 1979\nCouncil: Scenic Rim Regional Council \nRates: $1100.00 per 1/2 year\nTown water and town sewerage\nClosest town: Beaudesert 2.6klm Commute to Brisbane 72.8klms Gold Coast 56.6klms
PRIORITY:1
CLASS:PUBLIC
BEGIN:VALARM
TRIGGER:-PT10080M
ACTION:DISPLAY
DESCRIPTION:Reminder
END:VALARM
END:VEVENT
END:VCALENDAR
