BEGIN:VCALENDAR
VERSION:2.0
PRODID:-//Meagan Read Property/EPL//NONSGML v1.0//EN
METHOD:PUBLISH
BEGIN:VEVENT
DTSTART:20210227T100000
DTEND:20210227T103000
LOCATION:5 Haifa Place VERESDALE SCRUB, QLD 4285
URL:https://meaganreadproperty.com.au/property/5-haifa-place-veresdale-scrub-qld-4285/
TRANSP:OPAQUE
SEQUENCE:0
UID:484471614223485
DTSTAMP:20210224T172445Z
SUMMARY:Home Open - Blissful life on 3.1 Acres
DESCRIPTION:There are not enough words to describe how lovely this property is- the important thing to tell you is the owners are very particular and very proud of their property and they have a keen eye for detail!\nThis property is unique in the fact that everything: - the house\, the shed\, the 2 stables\, the tack shed\, and the acreage are all beautifully maintained and presented to a very high standard.\nThe home is like walking into a display home- there are multiple living areas - formal lounge & dining room\, open planned 2nd lounge room with wood heater\, dining or sitting area adjacent to the kitchen and just off the kitchen is the outdoor covered entertainment area. \nThere are 4 bedrooms\, the main bedroom with ensuite and walk-in robe is located from the other 3 bedrooms\, there is also an office and a main bathroom and laundry\, the home also has a double garage. \nOutside is the Colorbond shed 8m x 6m and it is high enough to house a horse float\, a purpose-built tack room and 2 stables 3.5 m x 3.75m each\, they are lined with marine ply and built in steel for peace of mind. The boundary fence has been done in steel and there is electric fencing throughout the property to keep the horses off the fences. Water has been connected to troughs for the horses\, there is a day yard and the large paddock has a dam\, so your horses will be well taken care off. \n3.1 acres of bliss for your family and for your horses\, the location is beautiful\, great views\, lots of likeminded neighbours and only a short drive into Beaudesert.\nCome and view\, you will be impressed with all this lovely property offers. \n\nReason for selling: Sea Change.\nHouse built: 2007 (Hallmark Homes) \nRates: Scenic Rim Regional Council $1539 per 1/2 year\nWater: 3 x 5000-gallon water tanks\nSewerage: HSTP- Taylex \nClosest town: Beaudesert 11.4 klms\nCommute by car: Brisbane 66.4klms\, Gold Coast 78.3klms
PRIORITY:1
CLASS:PUBLIC
BEGIN:VALARM
TRIGGER:-PT10080M
ACTION:DISPLAY
DESCRIPTION:Reminder
END:VALARM
END:VEVENT
END:VCALENDAR
