BEGIN:VCALENDAR
VERSION:2.0
PRODID:-//Meagan Read Property/EPL//NONSGML v1.0//EN
METHOD:PUBLISH
BEGIN:VEVENT
DTSTART:20210227T120000
DTEND:20210227T123000
LOCATION:38 Carrigan Way GLENEAGLE, QLD 4285
URL:https://meaganreadproperty.com.au/property/38-carrigan-way-gleneagle-qld-4285/
TRANSP:OPAQUE
SEQUENCE:0
UID:290171614224115
DTSTAMP:20210224T173515Z
SUMMARY:Home Open - Great family home-Enjoy the- Inground Sparkling Pool!
DESCRIPTION:Your family will love this home\, there is room for everyone including the pooch! \nHallmark homes are known for their beaut floor plans and this house has excellent living areas\, spacious bedrooms plus an office!\nAt the front of the home is the formal lounge and dining room the office and the main bedroom\, the main bedroom has air conditioning and ensuite and walk in robe. \nThe kitchen is the hub of the home and adjacent to the kitchen is another dining area and a family room 9air cond.)\, its  perfect for all those social entertaining times as you just go out through the sliding glass doors and your in the  covered entertainment area next to the pool area- very easy for a b.b.q and a quiet relax while watching the kids enjoying the pool. \nThe other 3 bedrooms are located at the other end of the home and they are all spacious\, they all have built in robes and are in close proximity to the main bathroom with bath\, shower and vanity and a separate toilet.\nThe sparkling pool is very inviting and was only installed October 2019\, it's a Barrier Reef fibreglass pool and it has its pool safety certificate already in place\, you will have many years of family entertaining and enjoyment with a pool and outdoor area like this. \n1.5 KVA of solar power has been installed and there is a double garage under roof. \nThe block is 2001m2 and fenced\, it comes with a child's cubby house & sand pit and there is side access if you wanted to put a shed in. \n\nReason for selling: moving closer to family in Brisbane\nHome built Dec 2015 by Hallmark Homes\nInternet - NBN in the street \nCouncil trickle feed water supply\nCED sewerage system\nScenic Rim Regional Council rates $ 1100.00 per 1/2 year\nSchool bus pick up in area\nNearest Town Beaudesert  6.5klms  Commute to Brisbane  67klms Commute to Gold Coast 71klms
PRIORITY:1
CLASS:PUBLIC
BEGIN:VALARM
TRIGGER:-PT10080M
ACTION:DISPLAY
DESCRIPTION:Reminder
END:VALARM
END:VEVENT
END:VCALENDAR
